BEGIN:VCALENDAR
VERSION:2.0
PRODID:-//ChamberMaster//Event Calendar 2.0//EN
METHOD:PUBLISH
X-PUBLISHED-TTL:P3D
REFRESH-INTERVAL:P3D
CALSCALE:GREGORIAN
BEGIN:VEVENT
DTSTART:20180807T230000Z
DTEND:20180808T020000Z
X-MICROSOFT-CDO-ALLDAYEVENT:FALSE
SUMMARY:35th Annual National Night Out
DESCRIPTION:35th Annual National Night Out \n\nHosted By:\n\nFulton Neighborhood Watch\n\nTown of Fulton & Fulton Police Department\n\nFulton Volunteer Fire Department\n\n\n\n\n\nFREE hot dog roast\, potato salad\, coleslaw\,\n\nbeans\, roasted corn on the cob\,\n\ncookies\, and refreshments!\n\nCome join the fun!
X-ALT-DESC;FMTTYPE=text/html:<div style="text-align: center\;"><br />\n<span style="color:#000080\;"><span style="font-size:20px\;"><span style="font-family:verdana\;"><strong><span style="font-size:28px\;">35th Annual National Night Out </span><br />\nHosted By:<br />\nFulton Neighborhood Watch<br />\nTown of Fulton &amp\; Fulton Police Department<br />\nFulton Volunteer Fire Department<br />\n<br />\n<br />\n<span style="font-size:14px\;">FREE hot dog roast\, potato salad\, coleslaw\,<br />\nbeans\, roasted corn on the cob\,<br />\ncookies\, and refreshments!<br />\nCome join the fun!</span></strong></span></span></span></div>\n
LOCATION:Fulton Volunteer Department 401 N 9th St. Meet at the Fulton Fire Station and join in a parade through the neighborhood! If you are not able to walk\, just meet us there.
UID:e.2062.36514
SEQUENCE:3
DTSTAMP:20260421T111135Z
URL:https://members.rockport-fulton.org/events/details/35th-annual-national-night-out-08-07-2018-36514
END:VEVENT

END:VCALENDAR
