BEGIN:VCALENDAR
VERSION:2.0
PRODID:-//ChamberMaster//Event Calendar 2.0//EN
METHOD:PUBLISH
X-PUBLISHED-TTL:P3D
REFRESH-INTERVAL:P3D
CALSCALE:GREGORIAN
BEGIN:VEVENT
DTSTART:20261001T100000Z
DTEND:20261005T040000Z
X-MICROSOFT-CDO-ALLDAYEVENT:FALSE
SUMMARY:2026 SeaFair
DESCRIPTION:Rockport - Fulton SeaFair October 1-4\, 2026. Located at the Rockport-Festival Grounds. SeaFair celebrates its 51st year.  This fun 3-day event includes gumbo\, hilarious crab races\, arts and crafts\, market\, and food vendors\, a boat and outdoor car show\, cardboard boat races\, and live big-name and local entertainment. For more information\, visit www.rockport-fulton.org\,  Call 361-729-6445\, or e-mail tourism@1rockport.org.
X-ALT-DESC;FMTTYPE=text/html:<p dir="ltr" style="line-height:1.2\;text-align: justify\;background-color:#ffffff\;margin-top:0pt\;margin-bottom:0pt\;"><span id="docs-internal-guid-53305a39-7fff-ab0e-d4fa-97255e194e11"><span style="font-size: 12pt\; font-family: Calibri\, sans-serif\; background-color: transparent\; font-weight: 700\; font-variant-numeric: normal\; font-variant-east-asian: normal\; font-variant-alternates: normal\; font-variant-position: normal\; vertical-align: baseline\; white-space-collapse: preserve\;">Rockport - Fulton SeaFair</span><span style="font-size: 12pt\; font-family: Calibri\, sans-serif\; background-color: transparent\; font-variant-numeric: normal\; font-variant-east-asian: normal\; font-variant-alternates: normal\; font-variant-position: normal\; vertical-align: baseline\; white-space-collapse: preserve\;"> October 1-4\, 2026. Located at the Rockport-Festival Grounds. SeaFair celebrates its 51st year.&nbsp\; This fun 3-day event includes gumbo\, hilarious crab races\, arts and crafts\, market\, and food vendors\, a boat and outdoor car show\, cardboard boat races\, and live big-name and local entertainment. For more information\, visit&nbsp\;</span><a href="http://www.rockport-fulton.com" style="text-decoration-line: none\;"><span style="font-size: 12pt\; font-family: Calibri\, sans-serif\; color: rgb(5\, 99\, 193)\; background-color: transparent\; font-variant-numeric: normal\; font-variant-east-asian: normal\; font-variant-alternates: normal\; font-variant-position: normal\; text-decoration-line: underline\; text-decoration-skip-ink: none\; vertical-align: baseline\; white-space-collapse: preserve\;">www.rockport-fulton.</span></a><font color="#0563c1"><u>org</u></font><span style="font-size: 12pt\; font-family: Calibri\, sans-serif\; background-color: transparent\; font-variant-numeric: normal\; font-variant-east-asian: normal\; font-variant-alternates: normal\; font-variant-position: normal\; vertical-align: baseline\; white-space-collapse: preserve\;">\, </span><span style="font-size: 12pt\; font-family: Calibri\, sans-serif\; background-color: transparent\; font-variant-numeric: normal\; font-variant-east-asian: normal\; font-variant-alternates: normal\; font-variant-position: normal\; text-decoration-line: underline\; text-decoration-skip-ink: none\; vertical-align: baseline\; white-space-collapse: preserve\;">&nbsp\;C</span><span style="font-size: 12pt\; font-family: Calibri\, sans-serif\; background-color: transparent\; font-variant-numeric: normal\; font-variant-east-asian: normal\; font-variant-alternates: normal\; font-variant-position: normal\; vertical-align: baseline\; white-space-collapse: preserve\;">all 361-729-6445\, or e-mail </span><a href="mailto:tourism@1rockport.org" style="text-decoration-line: none\;"><span style="font-size: 12pt\; font-family: Calibri\, sans-serif\; color: rgb(5\, 99\, 193)\; background-color: transparent\; font-variant-numeric: normal\; font-variant-east-asian: normal\; font-variant-alternates: normal\; font-variant-position: normal\; text-decoration-line: underline\; text-decoration-skip-ink: none\; vertical-align: baseline\; white-space-collapse: preserve\;">tourism@1rockport.org</span></a><span style="font-size: 12pt\; font-family: Calibri\, sans-serif\; background-color: transparent\; font-variant-numeric: normal\; font-variant-east-asian: normal\; font-variant-alternates: normal\; font-variant-position: normal\; vertical-align: baseline\; white-space-collapse: preserve\;">.&nbsp\;&nbsp\;</span></span></p>\n\n<p dir="ltr" style="line-height:1.2\;text-align: justify\;background-color:#ffffff\;margin-top:0pt\;margin-bottom:0pt\;">&nbsp\;</p>\n
LOCATION:Rockport Festival Grounds
UID:e.2062.64771
SEQUENCE:3
DTSTAMP:20260423T195707Z
URL:https://members.rockport-fulton.org/events/details/2026-seafair-64771
END:VEVENT

END:VCALENDAR
