BEGIN:VCALENDAR
VERSION:2.0
PRODID:-//ChamberMaster//Event Calendar 2.0//EN
METHOD:PUBLISH
X-PUBLISHED-TTL:P3D
REFRESH-INTERVAL:P3D
CALSCALE:GREGORIAN
BEGIN:VEVENT
DTSTART:20260917T190000Z
DTEND:20260920T220000Z
X-MICROSOFT-CDO-ALLDAYEVENT:FALSE
SUMMARY:2026 HummerBird Celebration
DESCRIPTION:Welcome to the 38th Annual Rockport-Fulton HummerBird Celebration! This event offers a four-day speaker series\,  shopping at the Hummer Mall\, boat birding trips\, hummer home bus tours\, photography classes\, pubic bird banding\, ranch tours and much more. You don't want to miss the spectacular annual hummingbird migration through Rockport and Fulton\, Texas.
X-ALT-DESC;FMTTYPE=text/html:<span style="font-family: Oswald\, sans-serif\; font-size: 22px\;">Welcome to the 38th Annual Rockport-Fulton HummerBird Celebration! This event offers a four-day speaker series\,&nbsp\; shopping at the Hummer Mall\, boat birding trips\, hummer home bus tours\, photography classes\, pubic bird banding\, ranch tours and much more. You don&#39\;t want to miss the spectacular annual hummingbird migration through Rockport and Fulton\, Texas.</span>
LOCATION:Speaker Series will be held at the Rockport-Fulton High School Auditorium. Hummer Mall will be located at the Fulton Convention Center.
UID:e.2062.64768
SEQUENCE:3
DTSTAMP:20260422T223611Z
URL:https://members.rockport-fulton.org/events/details/2026-hummerbird-celebration-64768
END:VEVENT

END:VCALENDAR
