BEGIN:VCALENDAR
VERSION:2.0
PRODID:-//ChamberMaster//Event Calendar 2.0//EN
METHOD:PUBLISH
X-PUBLISHED-TTL:P3D
REFRESH-INTERVAL:P3D
CALSCALE:GREGORIAN
BEGIN:VEVENT
DTSTART:20150411T000000Z
DTEND:20150411T030000Z
X-MICROSOFT-CDO-ALLDAYEVENT:FALSE
SUMMARY:2015 Tour of Homes Kickoff Party
DESCRIPTION:Kickoff Party Friday\, April 10
X-ALT-DESC;FMTTYPE=text/html:<h3 style="font-family: Arial\, Helvetica\, sans-serif\; background-color: rgb(255\, 255\, 255)\;">Kickoff Party Friday\, April 10</h3>\n
LOCATION:Please Call 361-729-5519 for more information!
UID:e.2062.939
SEQUENCE:3
DTSTAMP:20260424T073438Z
URL:https://members.rockport-fulton.org/events/details/2015-tour-of-homes-kickoff-party-04-10-2015-939
END:VEVENT

END:VCALENDAR
