BEGIN:VCALENDAR
VERSION:2.0
PRODID:-//ChamberMaster//Event Calendar 2.0//EN
METHOD:PUBLISH
X-PUBLISHED-TTL:P3D
REFRESH-INTERVAL:P3D
CALSCALE:GREGORIAN
BEGIN:VEVENT
DTSTART;VALUE=DATE:20150411
DTEND;VALUE=DATE:20150413
TRANSP:TRANSPARENT
X-MICROSOFT-CDO-ALLDAYEVENT:TRUE
SUMMARY:2015 Tour of Homes
DESCRIPTION:2015 Tour of Homes
X-ALT-DESC;FMTTYPE=text/html:<h3 style="font-family: Arial\, Helvetica\, sans-serif\; background-color: rgb(255\, 255\, 255)\;">2015 Tour of Homes</h3>\n
LOCATION:Please Call 361-729-5519 for more information!
UID:e.2062.948
SEQUENCE:3
DTSTAMP:20260424T073124Z
URL:https://members.rockport-fulton.org/events/details/2015-tour-of-homes-04-11-2015-948
END:VEVENT

END:VCALENDAR
